BEGIN:VCALENDAR
VERSION:2.0
PRODID:-//Odense STX og HF - ECPv6.7.0//NONSGML v1.0//EN
CALSCALE:GREGORIAN
METHOD:PUBLISH
X-ORIGINAL-URL:https://odensestxoghf.dk
X-WR-CALDESC:Begivenheder for Odense STX og HF
REFRESH-INTERVAL;VALUE=DURATION:PT1H
X-Robots-Tag:noindex
X-PUBLISHED-TTL:PT1H
BEGIN:VTIMEZONE
TZID:Europe/Copenhagen
BEGIN:DAYLIGHT
TZOFFSETFROM:+0100
TZOFFSETTO:+0200
TZNAME:CEST
DTSTART:20240331T010000
END:DAYLIGHT
BEGIN:STANDARD
TZOFFSETFROM:+0200
TZOFFSETTO:+0100
TZNAME:CET
DTSTART:20241027T010000
END:STANDARD
END:VTIMEZONE
BEGIN:VEVENT
DTSTART;TZID=Europe/Copenhagen:20240516T120000
DTEND;TZID=Europe/Copenhagen:20240516T150000
DTSTAMP:20260425T001003
CREATED:20220509T074508Z
LAST-MODIFIED:20240308T103454Z
UID:4130-1715860800-1715871600@odensestxoghf.dk
SUMMARY:OS Regatta
DESCRIPTION:I alt 3000 elever og ansatte fra Mulernes Legatskole\, Odense Katedralskole\, Sct. Knuds Gymnasium og Tornbjerg Gymnasium samles til OS Regatta ved Odense Havn. Noget\, der har været en tradition siden 2016. \nEleverne kan se frem til en festdag\, hvor de fire skoler skal ro om kap i dragebåde og dyste mod hinanden i en lang række idrætslige discipliner. Der er medaljer\, vandretrofæer og – ikke mindst – håneretten på højkant! \nImens Regattaen står på\, kan der købes mad og drikke i de forskellige elevboder på Byens Ø og promenadekajen. Der vil desuden være en highjumper til fri afbenyttelse. \nArrangementet\, som er alkoholfrit\, slutter med præmieoverrækkelse kl. 15.00.
URL:https://odensestxoghf.dk/event/os-regatta-2022/
LOCATION:Byens Ø\, Nordatlantisk Promenade\, Odense C\, 5000\, Danmark
ATTACH;FMTTYPE=image/jpeg:https://odensestxoghf.dk/wp-content/uploads/OS-Regatta.jpg
END:VEVENT
END:VCALENDAR